{"text_format":"2","workbook":"xlsx","n_sheets":1,"sheets":["Sheet1"],"not_rendered":{"charts":0,"images":0,"macros":0,"external_links":1,"defined_names":1,"comments":0,"pivot_tables":0},"unopened":[],"bounds":{"document_bytes":16777216,"sheet_cells":100000,"run_cost":"one","rows_first":2000,"rows_last":500,"rows_between":2000,"halvings":0,"cell_chars":16384,"cell_head_chars":4096},"cells_cut":0,"cells_raw":0,"read":"whole","date_system":"1900"}

{"sheet":"Sheet1","index":0,"n_rows":112,"n_cols":13,"rows_kept":112,"cut":false,"hidden":false,"merged":[[0,0,0,3],[0,9,0,12]]}
["核心关联自然人",{"$nulls":8},"核心关联企业"]
["序号","姓名","关联关系","身份证号码",{"$nulls":5},"序号","名称","关联关系","备注"]
[1,"黄汶川","实际控制人","511024198306062852",{"$nulls":5},1,"上海铮航实业有限公司","持股71%"]
[2,"张晓菊","配偶","511024198111180023",{"$nulls":5},2,"福建省武夷山宇梓农业科技有限公司","上海铮航实业有限公司持股30%"]
[3,"甘明惠","母亲","51102419560911242X",{"$nulls":5},3,"福建五色石贸易有限公司","上海铮航实业有限公司持股40%"]
[4,"黄榆婷","子女","511024200711200024",{"$nulls":5},4,"上海涌前投资管理中心（有限合伙）","持股16.67%"]
[5,"黄吉敏","兄弟","511024198008022844",{"$nulls":5},5,"今翌信息科技（上海）有限公司","持股9%"]
[6,"王珏","执行董事","310110198903175176",{"$nulls":5},6,"今翌科技(上海)有限公司","今翌信息科技（上海）有限公司持股80%"]
[7,"于歆蔚","配偶","310110198902152722",{"$nulls":5},7,"今翌科技(扬州)有限公司","今翌信息科技（上海）有限公司持股80%"]
[8,"王应玉","母亲","310110196206075445",{"$nulls":5},8,"深圳前海阳财投资有限公司","持股3.33%"]
[9,"王卫明","父亲","310110196207127016",{"$nulls":5},9,"深圳照羲商业保理有限公司","刘亲政持股10%，任监事"]
[10,"谭雪芳","监事","522423199110043644",{"$nulls":5},10,"上海兆朋金属材料经营部","刘奇持股100%"]
[11,"张炜荣","总经理","310104197704243613",{"$nulls":5},11,"上海逗牛信息技术有限责任公司","李正茂持股90%"]
[12,"陈关英","配偶","220523197906171821",{"$nulls":5},12,"上海创翌劳务派遣有限公司 ","李正茂持股90%"]
[13,"张耀奎","父亲","310107194512302899",{"$nulls":5},13,"上海麦依网络科技有限公司 ","李正茂持股65%"]
[14,"阮荷芬","母亲","310107195008062827",{"$nulls":5},14,"云南创盟企业管理有限公司","李正茂持股 51%"]
[15,"张嘉豪","子女","310104200812032834",{"$nulls":5},15,"上海微批网络科技有限公司","李正茂持股46.55%"]
[16,"陈明明","财务负责人","330903198303315212",{"$nulls":5},16,"修水县微盟贸易有限公司","上海微批网络科技有限公司持股25%"]
[17,"曹静","配偶","310102198205164488",{"$nulls":5},17,"曲靖微批网络科技有限责任公司","上海微批网络科技有限公司持股90%"]
[18,"陈世位","父亲","330903195701255231",{"$nulls":5},18,"上海翌微企业管理合伙企业(有限合伙)","上海微批网络科技有限公司持股43.2%"]
[19,"唐优菊","母亲","330903195812095226",{"$nulls":5},19,"上海思博体育管理有限公司","李正茂持股41%"]
[20,"陈欣雨","子女","310101201203023743",{"$nulls":5},20,"江西省泰锦投资有限公司","李正茂持股33%"]
[21,"陈莉莉","姐妹","330903198108215224",{"$nulls":5},21,"上海龙吟教育科技有限公司","李正茂持股20%"]
[22,"陈悦彬","技术负责人","510303198301050012",{"$nulls":5},22,"上海西斐国际贸易有限公司","李正茂持股15%"]
[23,"何霁霁","配偶","510303198312080524",{"$nulls":5},23,"修水县聚香茶业有限公司","李正茂持股10%"]
[24,"陈谋高","父亲","510302195403020535",{"$nulls":5},24,"上海佐思投资股份有限公司","李正茂持股9%"]
[25,"樊月辉","母亲","510302195709020546",{"$nulls":5},25,"上海杏港国际贸易有限公司","李正茂持股85%"]
[26,"李强","运营负责人","610303197811031611",{"$nulls":5},26,"上海耀宁投资有限公司","李正茂持股15%"]
[27,"李忠贤","父亲","610303194612271619",{"$nulls":5},27,"江西皇傲生态农业科技发展有限公司","上海耀宁投资有限公司持股100%"]
[28,"李荣","母亲","610303194810191628",{"$nulls":5},28,"宜城襄能光伏科技有限公司","姚峰持股99%"]
[29,"李晓红","姐妹","610303197601301628",{"$nulls":5},29,"宜城阳财光伏科技有限公司","宜城襄能光伏科技有限公司持股100%"]
[30,"张艺","新任监事，未变更","310109199309193047",{"$nulls":5},30,"深圳中飞腾翔航空科技有限公司","姚峰持股40%"]
[31,"张润范","父亲","310102196312304918",{"$nulls":5},31,"湖北阳财光伏科技有限公司","姚峰持股5.03%"]
[32,"樊晓芸","母亲","310109196804183248",{"$nulls":5},32,"宜城晶盛光伏科技有限公司","湖北阳财光伏科技有限公司持股100%"]
[33,"樊季生","外祖父","310109194110233213",{"$nulls":5},33,"上海鸿影文化传播有限公司","张炜荣持股48%"]
[34,"周荣妹","外祖母","310109194701133302",{"$nulls":5},34,"南京隽永投资理财顾问有限公司","张炜荣持股20%"]
[35,"邱惠民","祖母","310102291201486",{"$nulls":5},35,"上海春泉股权投资基金中心(有限合伙)","原持股8.33%"]
[36,"戴丽慧","员工","330381198401201426",{"$nulls":5},36,"天津春泉得誉企业管理咨询合伙企业(有限合伙)","春泉持股-"]
[37,"沈海","配偶","310110198111183258",{"$nulls":5},37,"上海初新信息科技有限公司","春泉持股-"]
[38,"戴其淼","父亲","330325195410250938",{"$nulls":5},38,"上海凯时赢投资管理有限公司","原持股3.713%"]
[39,"王碎仙","母亲","330325195712021428",{"$nulls":5},39,"北京清科致远投资管理中心(有限合伙)","原持股9.54%"]
[40,"冯永清","员工","510703197711110732",{"$nulls":5},40,"润富商业保理(深圳)有限公司","洪其华持股100%"]
[41,"甘立红","配偶","510704197810292427",{"$nulls":5},41,"上海票链网络科技有限公司","洪其华持股80%"]
[42,"冯水和","父亲","513031194804096331",{"$nulls":5},42,"深圳爱信商业保理有限公司","洪其华持股49%"]
[43,"李月英","母亲","513031194902216341",{"$nulls":5},43,"上海益如芒资产管理有限公司","洪其华持股-"]
[44,"冯斯诗","子女","511623200607080022",{"$nulls":5},44,"成都市众乐喜建材有限公司","洪其华持股50%"]
[45,"章卉东","员工","320682199206297958"]
[46,"张小燕","配偶","320682199405098142"]
[47,"章圣彬","父亲","320622196908187956"]
[48,"郭国芳","母亲","320622196804028002"]
[49,"王希元","员工","310107199007013933"]
[50,"王鸣跃","父亲","310105195810140818"]
[51,"胡燕萍","母亲","310110196311022046"]
[52,"吴婷清","员工","310106198901242844"]
[53,"吴建发","父亲","310104195802170076"]
[54,"袁雅春","母亲","310108196102061645"]
[55,"王雪娇","员工","511623199506296347"]
[56,"王泽彬","父亲","511121196409047839"]
[57,"冯琼芳","母亲","513031196907096368"]
[58,"陆波","员工","320203197708051521"]
[59,"陆为华","父亲","230804194607171819"]
[60,"赵淑云","母亲","23080419541221182X"]
[61,"洪其华","员工（已离职）",{"$f":"[1]Sheet1!C2","v":"330903198303315212"}]
[62,"沈丽沁","员工（已离职）",{"$f":"[1]Sheet1!C3","v":"511623199506296347"}]
[63,"徐俊秀","员工（已离职）",{"$f":"[1]Sheet1!C4","v":"610303197811031611"}]
[64,"李璋雯","员工（已离职）",{"$f":"[1]Sheet1!C5","v":"510625197907061672"}]
[65,"刘倩霞","员工（已离职）",{"$f":"[1]Sheet1!C6","v":"320681199504112425"}]
[66,"冯剑伟","员工（已离职）",{"$f":"[1]Sheet1!C7","v":"522423199110043644"}]
[67,"陈铖","员工（已离职）",{"$f":"[1]Sheet1!C8","v":"310104197704243613"}]
[68,"顾蓉蓉","员工（已离职）",{"$f":"[1]Sheet1!C9","v":"310106198901242844"}]
[69,"任宁","员工（已离职）",{"$f":"[1]Sheet1!C10","v":"310107199007013933"}]
[70,"齐楠","员工（已离职）",{"$f":"[1]Sheet1!C11","v":"310109199309193047"}]
[71,"冯子凯","员工（已离职）",{"$f":"[1]Sheet1!C12","v":"310110198903175176"}]
[72,"张珏珏","员工（已离职）",{"$f":"[1]Sheet1!C13","v":"330381198401201426"}]
[73,"朱紫清","员工（已离职）",{"$f":"[1]Sheet1!C14","v":"510303198301050012"}]
[74,"朱佳清","员工（已离职）",{"$f":"[1]Sheet1!C15","v":"510703197711110732"}]
[75,"凌兆菁","员工（已离职）",{"$f":"[1]Sheet1!C16","v":"511025198906143943"}]
[76,"朱俊杰","员工（已离职）",{"$f":"[1]Sheet1!C17","v":"310102199203313624"}]
[77,"黄璐佳","员工（已离职）",{"$f":"[1]Sheet1!C18","v":"510303197909080522"}]
[78,"徐家骅","员工（已离职）",{"$f":"[1]Sheet1!C19","v":"360521198202120033"}]
[79,"王敏","员工（已离职）",{"$f":"[1]Sheet1!C20","v":"310109198905010011"}]
[80,"杨键","员工（已离职）",{"$f":"[1]Sheet1!C21","v":"310108199107151029"}]
[81,"诸雯","员工（已离职）",{"$f":"[1]Sheet1!C22","v":"220202198306273310"}]
[82,"陈超","员工（已离职）",{"$f":"[1]Sheet1!C23","v":"230306199012224510"}]
[83,"吴姜芳","员工（已离职）",{"$f":"[1]Sheet1!C24","v":"310103198412284016"}]
[84,"颜小建","员工（已离职）",{"$f":"[1]Sheet1!C25","v":"310105198509254027"}]
[85,"张艳艳","员工（已离职）",{"$f":"[1]Sheet1!C26","v":"310105199009015024"}]
[86,"谭飞","员工（已离职）",{"$f":"[1]Sheet1!C27","v":"310107199101191752"}]
[87,"党杰","员工（已离职）",{"$f":"[1]Sheet1!C28","v":"310108199307092625"}]
[88,"吕贻芳","员工（已离职）",{"$f":"[1]Sheet1!C29","v":"310110198711041579"}]
[89,"李倩","员工（已离职）",{"$f":"[1]Sheet1!C30","v":"310230199012217227"}]
[90,"张钰婷","员工（已离职）",{"$f":"[1]Sheet1!C31","v":"320681199107040093"}]
[91,"郭庆","员工（已离职）",{"$f":"[1]Sheet1!C32","v":"321321198709113142"}]
[92,"陈凯艺","员工（已离职）",{"$f":"[1]Sheet1!C33","v":"330326199107050719"}]
[93,"施丹","员工（已离职）",{"$f":"[1]Sheet1!C34","v":"341004199505160022"}]
[94,"唐艳霞","员工（已离职）",{"$f":"[1]Sheet1!C35","v":"342427198902244417"}]
[95,"卢誉诚","员工（已离职）",{"$f":"[1]Sheet1!C36","v":"352225198806210020"}]
[96,"刘一杰","员工（已离职）",{"$f":"[1]Sheet1!C37","v":"36243019920113481X"}]
[97,"陈思宇","员工（已离职）",{"$f":"[1]Sheet1!C38","v":"410204198210202022"}]
{"$rows_empty":8}
[null,"洪其华","原持股54.322%"]
[null,"刘亲政","持上海铮航实业有限公司40%股权"]
[null,"刘奇","持上海涌前投资管理中心（有限合伙）99%股权"]
[null,"李正茂","持今翌信息科技（上海）有限公司95%股权"]
[null,"姚峰","持深圳前海阳财投资有限公司99.99%股权"]